BEGIN:VCALENDAR
VERSION:2.0
PRODID:-//wp-events-plugin.com//6.4.10.2//EN
TZID:Europe/Berlin
X-WR-TIMEZONE:Europe/Berlin
BEGIN:VEVENT
UID:117@weingruen-dortmund.de
DTSTART;TZID=Europe/Berlin:20250318T183000
DTEND;TZID=Europe/Berlin:20250318T220000
DTSTAMP:20250211T085358Z
URL:https://weingruen-dortmund.de/events/wg-x-quiz-night-am-18-03-2025/
SUMMARY:WG x Quiz Night am 18.03.2025
DESCRIPTION:WG x Quiz Night\nIn einzigartiger Atmosphäre quizzen und dazu 
 ein paar Wein trinken?\nGeht und gibt’s in Dortmund\, also komm vorbei u
 nd zeig uns\, was du draufhast! Wir sind gespannt und testen dein Wissen m
 it kuriosen als auch unartigen Fragen\, bizarren Rätseln und verblüffend
 en Antworten. Freu dich auf eine zwiespältige Moderation in süffiger und
  teils chaotischer Atmosphäre.\nNeben unserem Glücksrad stehen bei der Q
 uiz-Night selbstverständlich die humorvollen Antworten der Teams im Vorde
 rgrund. \nSelbstredend werden auch die ersten 3 Teams mit Weingrün-typisc
 hen Preisen geehrt!
ATTACH;FMTTYPE=image/jpeg:https://weingruen-dortmund.de/wp-content/uploads
 /2024/09/WG-x-Quiz-Night.png
CATEGORIES:Quiz Night
LOCATION:Weingrün Weinbar Dortmund\, Kurze Straße 2\, Dortmund\, 44137\, 
 Deutschland
X-APPLE-STRUCTURED-LOCATION;VALUE=URI;X-ADDRESS=Kurze Straße 2\, Dortmund\
 , 44137\, Deutschland;X-APPLE-RADIUS=100;X-TITLE=Weingrün Weinbar Dortmun
 d:geo:0,0
END:VEVENT
BEGIN:VTIMEZONE
TZID:Europe/Berlin
X-LIC-LOCATION:Europe/Berlin
BEGIN:STANDARD
DTSTART:20241027T020000
TZOFFSETFROM:+0200
TZOFFSETTO:+0100
TZNAME:CET
END:STANDARD
END:VTIMEZONE
END:VCALENDAR